BEGIN:VCALENDAR
VERSION:2.0
PRODID:-//Savoy Automobile Museum - ECPv6.15.20//NONSGML v1.0//EN
CALSCALE:GREGORIAN
METHOD:PUBLISH
X-ORIGINAL-URL:https://savoymuseum.org
X-WR-CALDESC:Events for Savoy Automobile Museum
REFRESH-INTERVAL;VALUE=DURATION:PT1H
X-Robots-Tag:noindex
X-PUBLISHED-TTL:PT1H
BEGIN:VTIMEZONE
TZID:America/New_York
BEGIN:DAYLIGHT
TZOFFSETFROM:-0500
TZOFFSETTO:-0400
TZNAME:EDT
DTSTART:20250309T070000
END:DAYLIGHT
BEGIN:STANDARD
TZOFFSETFROM:-0400
TZOFFSETTO:-0500
TZNAME:EST
DTSTART:20251102T060000
END:STANDARD
BEGIN:DAYLIGHT
TZOFFSETFROM:-0500
TZOFFSETTO:-0400
TZNAME:EDT
DTSTART:20260308T070000
END:DAYLIGHT
BEGIN:STANDARD
TZOFFSETFROM:-0400
TZOFFSETTO:-0500
TZNAME:EST
DTSTART:20261101T060000
END:STANDARD
BEGIN:DAYLIGHT
TZOFFSETFROM:-0500
TZOFFSETTO:-0400
TZNAME:EDT
DTSTART:20270314T070000
END:DAYLIGHT
BEGIN:STANDARD
TZOFFSETFROM:-0400
TZOFFSETTO:-0500
TZNAME:EST
DTSTART:20271107T060000
END:STANDARD
END:VTIMEZONE
BEGIN:VEVENT
DTSTART;TZID=America/New_York:20260605T190000
DTEND;TZID=America/New_York:20260605T210000
DTSTAMP:20260422T111258
CREATED:20260108T205625Z
LAST-MODIFIED:20260409T143845Z
UID:10006836-1780686000-1780693200@savoymuseum.org
SUMMARY:Sip & Snap
DESCRIPTION:Cruise down memory lane with an event geared toward the inner child in adults! Think back to a time where you built model cars from blocks and kits. Savoy Museum is excited to bring those memories back to life with Sip & Snap! Grab your friends and family and join us for an adult-aged (21+) night of building new memories (pun intended!). On Friday\, June 5\, 2026\, from 7:00 pm – 9:00 pm in the Private Dining Rooms we will build an Aston Martin DB5 007 Goldfinger model car made by Revell. This 1:24 scale\, 122-part\, Level 2\, easy-click system requires no glue or paint\, just patience. The event cost is $40 for Museum Members and $50 for the public. Pricing is per person and includes the model car\, use of a tool kit featuring scissors\, snips\, file\, tweezers\, toothpicks\, and cotton swabs\, as well as support from members of ACME (Atlanta Car Model Enthusiasts). Come early and enjoy dinner in the Savoy Cafe\, and a cash bar will be available for those wishing to sip while they snap.\nTickets:\nThis is a ticketed event. Watch for ticket sales opening soon. \nMembers – $40\nGeneral Public – $50\n\n\nSIP AND SNAP IS MADE POSSIBLE IN PART BY OUR FRIENDS AT:
URL:https://savoymuseum.org/event/sip-snap/
LOCATION:Savoy Automobile Museum\, 3 Savoy Lane\, Cartersville\, GA\, 30120\, United States
CATEGORIES:Public Events,Ticketed Event
ATTACH;FMTTYPE=image/jpeg:https://savoymuseum.org/wp-content/uploads/2026/01/Sip-and-Snap.jpg
ORGANIZER;CN="Savoy Automobile Museum":MAILTO:info@savoymuseum.org
END:VEVENT
END:VCALENDAR