BEGIN:VCALENDAR
VERSION:2.0
PRODID:-//Savoy Automobile Museum - ECPv6.15.20//NONSGML v1.0//EN
CALSCALE:GREGORIAN
METHOD:PUBLISH
X-WR-CALNAME:Savoy Automobile Museum
X-ORIGINAL-URL:https://savoymuseum.org
X-WR-CALDESC:Events for Savoy Automobile Museum
REFRESH-INTERVAL;VALUE=DURATION:PT1H
X-Robots-Tag:noindex
X-PUBLISHED-TTL:PT1H
BEGIN:VTIMEZONE
TZID:America/New_York
BEGIN:DAYLIGHT
TZOFFSETFROM:-0500
TZOFFSETTO:-0400
TZNAME:EDT
DTSTART:20240310T070000
END:DAYLIGHT
BEGIN:STANDARD
TZOFFSETFROM:-0400
TZOFFSETTO:-0500
TZNAME:EST
DTSTART:20241103T060000
END:STANDARD
BEGIN:DAYLIGHT
TZOFFSETFROM:-0500
TZOFFSETTO:-0400
TZNAME:EDT
DTSTART:20250309T070000
END:DAYLIGHT
BEGIN:STANDARD
TZOFFSETFROM:-0400
TZOFFSETTO:-0500
TZNAME:EST
DTSTART:20251102T060000
END:STANDARD
BEGIN:DAYLIGHT
TZOFFSETFROM:-0500
TZOFFSETTO:-0400
TZNAME:EDT
DTSTART:20260308T070000
END:DAYLIGHT
BEGIN:STANDARD
TZOFFSETFROM:-0400
TZOFFSETTO:-0500
TZNAME:EST
DTSTART:20261101T060000
END:STANDARD
END:VTIMEZONE
BEGIN:VEVENT
DTSTART;TZID=America/New_York:20250411T190000
DTEND;TZID=America/New_York:20250411T203000
DTSTAMP:20260422T052230
CREATED:20240920T174356Z
LAST-MODIFIED:20241010T195934Z
UID:10002680-1744398000-1744403400@savoymuseum.org
SUMMARY:Movies at the Museum - "The Transporter"
DESCRIPTION:Join us for a special showing of “The Transporter” (2002) on April 11\, 2025\, at 7:00 pm in the Presentation Theatre. \nFrank Martin\, who “transports” packages for unknown clients\, is asked to move a package that soon begins moving\, and complications arise. \n\nPG-13\n1h 32m\n\nTickets\nMembers – Complimentary \nGeneral Public – Included with admission to the museum. \nLearn how to become a member. \n \n  \n  \n  \n  \n  \n 
URL:https://savoymuseum.org/event/movies-at-the-museum-the-transporter/
LOCATION:Savoy Automobile Museum\, 3 Savoy Lane\, Cartersville\, GA\, 30120\, United States
CATEGORIES:Movies at the Museum,Public Events
ATTACH;FMTTYPE=image/png:https://savoymuseum.org/wp-content/uploads/2024/09/3.png
ORGANIZER;CN="Savoy Automobile Museum":MAILTO:info@savoymuseum.org
END:VEVENT
END:VCALENDAR