BEGIN:VCALENDAR
VERSION:2.0
PRODID:-//Savoy Automobile Museum - ECPv6.15.20//NONSGML v1.0//EN
CALSCALE:GREGORIAN
METHOD:PUBLISH
X-WR-CALNAME:Savoy Automobile Museum
X-ORIGINAL-URL:https://savoymuseum.org
X-WR-CALDESC:Events for Savoy Automobile Museum
REFRESH-INTERVAL;VALUE=DURATION:PT1H
X-Robots-Tag:noindex
X-PUBLISHED-TTL:PT1H
BEGIN:VTIMEZONE
TZID:America/New_York
BEGIN:DAYLIGHT
TZOFFSETFROM:-0500
TZOFFSETTO:-0400
TZNAME:EDT
DTSTART:20240310T070000
END:DAYLIGHT
BEGIN:STANDARD
TZOFFSETFROM:-0400
TZOFFSETTO:-0500
TZNAME:EST
DTSTART:20241103T060000
END:STANDARD
BEGIN:DAYLIGHT
TZOFFSETFROM:-0500
TZOFFSETTO:-0400
TZNAME:EDT
DTSTART:20250309T070000
END:DAYLIGHT
BEGIN:STANDARD
TZOFFSETFROM:-0400
TZOFFSETTO:-0500
TZNAME:EST
DTSTART:20251102T060000
END:STANDARD
BEGIN:DAYLIGHT
TZOFFSETFROM:-0500
TZOFFSETTO:-0400
TZNAME:EDT
DTSTART:20260308T070000
END:DAYLIGHT
BEGIN:STANDARD
TZOFFSETFROM:-0400
TZOFFSETTO:-0500
TZNAME:EST
DTSTART:20261101T060000
END:STANDARD
END:VTIMEZONE
BEGIN:VEVENT
DTSTART;TZID=America/New_York:20250613T190000
DTEND;TZID=America/New_York:20250613T203000
DTSTAMP:20260422T085431
CREATED:20240923T204843Z
LAST-MODIFIED:20250717T173011Z
UID:10002684-1749841200-1749846600@savoymuseum.org
SUMMARY:Movies at the Museum - "Grand Theft Auto"
DESCRIPTION:Join us for a special showing of “Grand Theft Auto” (1977) on June 13\, 2025\, at 7:00 pm in the Presentation Theatre. \nA rich girl steals her dad’s Rolls Royce and heads off to Las Vegas to get married. However\, her angry parents\, a jealous suitor\, and a bunch of reward seekers are determined to stop her. \n\nPG\n1h 24m\n\nTickets\nMembers – Complimentary \nGeneral Public – Included with admission to the museum. \n  \nNote: Seating is available on a first come first served basis. Please plan accordingly. Also\, food and drink are not permitted in the Presentation Theatre. Thank you for your cooperation! \nLearn how to become a member. \n \n 
URL:https://savoymuseum.org/event/movies-at-the-museum-grand-theft-auto-2/
LOCATION:Savoy Automobile Museum\, 3 Savoy Lane\, Cartersville\, GA\, 30120\, United States
CATEGORIES:Movies at the Museum,Public Events
ATTACH;FMTTYPE=image/png:https://savoymuseum.org/wp-content/uploads/2024/06/Movies-at-the-Museum-box.png
ORGANIZER;CN="Savoy Automobile Museum":MAILTO:info@savoymuseum.org
END:VEVENT
END:VCALENDAR